BEGIN:VCALENDAR
VERSION:2.0
PRODID:-//jEvents 2.0 for Joomla//EN
CALSCALE:GREGORIAN
METHOD:PUBLISH
BEGIN:VTIMEZONE
TZID:Europe/Berlin
BEGIN:STANDARD
DTSTART:20231029T020000
RDATE:20240331T030000
TZOFFSETFROM:+0200
TZOFFSETTO:+0100
TZNAME:Europe/Berlin CET
END:STANDARD
BEGIN:STANDARD
DTSTART:20241027T020000
RDATE:20250330T030000
TZOFFSETFROM:+0200
TZOFFSETTO:+0100
TZNAME:Europe/Berlin CET
END:STANDARD
BEGIN:STANDARD
DTSTART:20251026T020000
RDATE:20260329T030000
TZOFFSETFROM:+0200
TZOFFSETTO:+0100
TZNAME:Europe/Berlin CET
END:STANDARD
BEGIN:STANDARD
DTSTART:20261025T020000
RDATE:20270328T030000
TZOFFSETFROM:+0200
TZOFFSETTO:+0100
TZNAME:Europe/Berlin CET
END:STANDARD
BEGIN:STANDARD
DTSTART:20271031T020000
RDATE:20280326T030000
TZOFFSETFROM:+0200
TZOFFSETTO:+0100
TZNAME:Europe/Berlin CET
END:STANDARD
BEGIN:DAYLIGHT
DTSTART:20230520T000000
RDATE:20231029T020000
TZOFFSETFROM:+0100
TZOFFSETTO:+0200
TZNAME:Europe/Berlin CEST
END:DAYLIGHT
BEGIN:DAYLIGHT
DTSTART:20240331T030000
RDATE:20241027T020000
TZOFFSETFROM:+0100
TZOFFSETTO:+0200
TZNAME:Europe/Berlin CEST
END:DAYLIGHT
BEGIN:DAYLIGHT
DTSTART:20250330T030000
RDATE:20251026T020000
TZOFFSETFROM:+0100
TZOFFSETTO:+0200
TZNAME:Europe/Berlin CEST
END:DAYLIGHT
BEGIN:DAYLIGHT
DTSTART:20260329T030000
RDATE:20261025T020000
TZOFFSETFROM:+0100
TZOFFSETTO:+0200
TZNAME:Europe/Berlin CEST
END:DAYLIGHT
BEGIN:DAYLIGHT
DTSTART:20270328T030000
RDATE:20271031T020000
TZOFFSETFROM:+0100
TZOFFSETTO:+0200
TZNAME:Europe/Berlin CEST
END:DAYLIGHT
END:VTIMEZONE
BEGIN:VEVENT
UID:2270496f963a8542e83aa8d6a23e469b
CATEGORIES:Bike - Marathon
CREATED:20240229T130044
SUMMARY:MTB Marathon Dresden 2024
LOCATION:Dresden\, Marienallee
URL;VALUE=URI:https://2nd.silvertrails.de/index.php/de-de/component/jevents/eventdetail/1
 57/-/mtb-marathon-dresden-2024?Itemid=115&amp;tmpl=component
DESCRIPTION:Alles neu macht der Mai, so auch dieses Rennen. In neuem Gewand geht der MT
 B Marathon Dresden in seine 9. Auflage. Auf einem stadtnahen Rundkurs in de
 r Dresdner Heide\n Dieser Event wurde importiert von: https://2nd.silvertra
 ils.de/index.php/de-de/component/jevents/eventdetail/157/-/mtb-marathon-dre
 sden-2024?Itemid=115&amp;tmpl=component (https://2nd.silvertrails.de/index.
 php/de-de/component/jevents/eventdetail/157/-/mtb-marathon-dresden-2024?Ite
 mid=115&amp;tmpl=component)
X-ALT-DESC;FMTTYPE=text/html:Alles neu macht der Mai, so auch dieses Rennen. In neuem Gewand geht der MT
 B Marathon Dresden in seine 9. Auflage. Auf einem stadtnahen Rundkurs in de
 r Dresdner Heide<br/> <a href="https://2nd.silvertrails.de/index.php/de-de/
 component/jevents/eventdetail/157/-/mtb-marathon-dresden-2024?Itemid=115&am
 p;tmpl=component">Dieser Event wurde importiert von: https://2nd.silvertrai
 ls.de/index.php/de-de/component/jevents/eventdetail/157/-/mtb-marathon-dres
 den-2024?Itemid=115&amp;tmpl=component</a>CONTACT:http://www.mtb-marathon-dresden.de/ (http://www.mtb-marathon-dresden.de/)
X-EXTRAINFO:→ MTB-Marathon 66 km\nDie Strecke führt als Rundkurs (4 Runden) durch die D
 resdner Heide.\nDie Runde ist ca. 15 km lang und viermal zu befahren. Die S
 trecke führt\nüber Wurzelpfade, Singletrails, Wald- und Forstwege. Der Star
 t erfolgt im\nMassenstart. Im ersten Startblock starten Elitefahrer, im zwe
 iten Frauen,\nim dritten Jedermänner.
DTSTAMP:20260423T160627
DTSTART;TZID=Europe/Berlin;VALUE=DATE:20240520
DTEND;TZID=Europe/Berlin;VALUE=DATE:20240521
SEQUENCE:0
TRANSP:OPAQUE
END:VEVENT
END:VCALENDAR